BEGIN:VCALENDAR
METHOD:PUBLISH
PRODID:-//www.nhg-nuernberg.de//NONSGML CreateICS 1.0//
VERSION:2.0
X-WR-TIMEZONE:Europe/Berlin
BEGIN:VEVENT
UID:20260422T123234EW\@nhg-nuernberg.de
DTSTAMP:20260422T123234
CATEGORIES:NHG Exkursion
DESCRIPTION: Das Angebot richtet sich an Kinder im Vorschul- und Grundschulalter. 
LOCATION:
SUMMARY:Höhlenbesuch für Kinder und ihre Eltern
DTSTART:20260425T130000
DTEND:20260425T143000
TRANSP:OPAQUE
END:VEVENT
END:VCALENDAR
